BEGIN:VCALENDAR
VERSION:2.0
PRODID:https://www.kufer.de/kuferweb / DE
METHOD:PUBLISH
CALSCALE:GREGORIAN
X-WR-TIMEZONE:Europe/Berlin
BEGIN:VTIMEZONE
TZID:Europe/Berlin
X-LIC-LOCATION:Europe/Berlin
BEGIN:DAYLIGHT
TZOFFSETFROM:+0100
TZOFFSETTO:+0200
TZNAME:CEST
DTSTART:19700329T020000
RRULE:FREQ=YEARLY;INTERVAL=1;BYDAY=-1SU;BYMONTH=3
END:DAYLIGHT
BEGIN:STANDARD
TZOFFSETFROM:+0200
TZOFFSETTO:+0100
TZNAME:CET
DTSTART:19701025T030000
RRULE:FREQ=YEARLY;INTERVAL=1;BYDAY=-1SU;BYMONTH=10
END:STANDARD
END:VTIMEZONE
BEGIN:VEVENT
DTSTAMP:20260420T181118
DTSTART;TZID=Europe/Berlin:20260218T190000
DTEND;TZID=Europe/Berlin:20260218T211500
UID:26A164115-20260218T190000@VHSSCHAUMBURG
SUMMARY:Theater und Erfahrung (26A164115) 
LOCATION:APO, Obernstr. 29, 31655 Stadthagen
END:VEVENT
BEGIN:VEVENT
DTSTAMP:20260420T181118
DTSTART;TZID=Europe/Berlin:20260225T190000
DTEND;TZID=Europe/Berlin:20260225T211500
UID:26A164115-20260225T190000@VHSSCHAUMBURG
SUMMARY:Theater und Erfahrung (26A164115) 
LOCATION:APO, Obernstr. 29, 31655 Stadthagen
END:VEVENT
BEGIN:VEVENT
DTSTAMP:20260420T181118
DTSTART;TZID=Europe/Berlin:20260304T190000
DTEND;TZID=Europe/Berlin:20260304T211500
UID:26A164115-20260304T190000@VHSSCHAUMBURG
SUMMARY:Theater und Erfahrung (26A164115) 
LOCATION:APO, Obernstr. 29, 31655 Stadthagen
END:VEVENT
BEGIN:VEVENT
DTSTAMP:20260420T181118
DTSTART;TZID=Europe/Berlin:20260311T190000
DTEND;TZID=Europe/Berlin:20260311T211500
UID:26A164115-20260311T190000@VHSSCHAUMBURG
SUMMARY:Theater und Erfahrung (26A164115) 
LOCATION:APO, Obernstr. 29, 31655 Stadthagen
END:VEVENT
BEGIN:VEVENT
DTSTAMP:20260420T181118
DTSTART;TZID=Europe/Berlin:20260318T190000
DTEND;TZID=Europe/Berlin:20260318T211500
UID:26A164115-20260318T190000@VHSSCHAUMBURG
SUMMARY:Theater und Erfahrung (26A164115) 
LOCATION:APO, Obernstr. 29, 31655 Stadthagen
END:VEVENT
BEGIN:VEVENT
DTSTAMP:20260420T181118
DTSTART;TZID=Europe/Berlin:20260408T190000
DTEND;TZID=Europe/Berlin:20260408T211500
UID:26A164115-20260408T190000@VHSSCHAUMBURG
SUMMARY:Theater und Erfahrung (26A164115) 
LOCATION:APO, Obernstr. 29, 31655 Stadthagen
END:VEVENT
BEGIN:VEVENT
DTSTAMP:20260420T181118
DTSTART;TZID=Europe/Berlin:20260415T190000
DTEND;TZID=Europe/Berlin:20260415T211500
UID:26A164115-20260415T190000@VHSSCHAUMBURG
SUMMARY:Theater und Erfahrung (26A164115) 
LOCATION:APO, Obernstr. 29, 31655 Stadthagen
END:VEVENT
BEGIN:VEVENT
DTSTAMP:20260420T181118
DTSTART;TZID=Europe/Berlin:20260422T190000
DTEND;TZID=Europe/Berlin:20260422T211500
UID:26A164115-20260422T190000@VHSSCHAUMBURG
SUMMARY:Theater und Erfahrung (26A164115) 
LOCATION:APO, Obernstr. 29, 31655 Stadthagen
END:VEVENT
BEGIN:VEVENT
DTSTAMP:20260420T181118
DTSTART;TZID=Europe/Berlin:20260429T190000
DTEND;TZID=Europe/Berlin:20260429T211500
UID:26A164115-20260429T190000@VHSSCHAUMBURG
SUMMARY:Theater und Erfahrung (26A164115) 
LOCATION:APO, Obernstr. 29, 31655 Stadthagen
END:VEVENT
BEGIN:VEVENT
DTSTAMP:20260420T181118
DTSTART;TZID=Europe/Berlin:20260506T190000
DTEND;TZID=Europe/Berlin:20260506T211500
UID:26A164115-20260506T190000@VHSSCHAUMBURG
SUMMARY:Theater und Erfahrung (26A164115) 
LOCATION:APO, Obernstr. 29, 31655 Stadthagen
END:VEVENT
BEGIN:VEVENT
DTSTAMP:20260420T181118
DTSTART;TZID=Europe/Berlin:20260513T190000
DTEND;TZID=Europe/Berlin:20260513T211500
UID:26A164115-20260513T190000@VHSSCHAUMBURG
SUMMARY:Theater und Erfahrung (26A164115) 
LOCATION:APO, Obernstr. 29, 31655 Stadthagen
END:VEVENT
BEGIN:VEVENT
DTSTAMP:20260420T181118
DTSTART;TZID=Europe/Berlin:20260520T190000
DTEND;TZID=Europe/Berlin:20260520T211500
UID:26A164115-20260520T190000@VHSSCHAUMBURG
SUMMARY:Theater und Erfahrung (26A164115) 
LOCATION:APO, Obernstr. 29, 31655 Stadthagen
END:VEVENT
BEGIN:VEVENT
DTSTAMP:20260420T181118
DTSTART;TZID=Europe/Berlin:20260527T190000
DTEND;TZID=Europe/Berlin:20260527T211500
UID:26A164115-20260527T190000@VHSSCHAUMBURG
SUMMARY:Theater und Erfahrung (26A164115) 
LOCATION:APO, Obernstr. 29, 31655 Stadthagen
END:VEVENT
BEGIN:VEVENT
DTSTAMP:20260420T181118
DTSTART;TZID=Europe/Berlin:20260603T190000
DTEND;TZID=Europe/Berlin:20260603T211500
UID:26A164115-20260603T190000@VHSSCHAUMBURG
SUMMARY:Theater und Erfahrung (26A164115) 
LOCATION:APO, Obernstr. 29, 31655 Stadthagen
END:VEVENT
BEGIN:VEVENT
DTSTAMP:20260420T181118
DTSTART;TZID=Europe/Berlin:20260610T190000
DTEND;TZID=Europe/Berlin:20260610T211500
UID:26A164115-20260610T190000@VHSSCHAUMBURG
SUMMARY:Theater und Erfahrung (26A164115) 
LOCATION:APO, Obernstr. 29, 31655 Stadthagen
END:VEVENT
BEGIN:VEVENT
DTSTAMP:20260420T181118
DTSTART;TZID=Europe/Berlin:20260617T190000
DTEND;TZID=Europe/Berlin:20260617T211500
UID:26A164115-20260617T190000@VHSSCHAUMBURG
SUMMARY:Theater und Erfahrung (26A164115) 
LOCATION:APO, Obernstr. 29, 31655 Stadthagen
END:VEVENT
BEGIN:VEVENT
DTSTAMP:20260420T181118
DTSTART;TZID=Europe/Berlin:20260624T190000
DTEND;TZID=Europe/Berlin:20260624T211500
UID:26A164115-20260624T190000@VHSSCHAUMBURG
SUMMARY:Theater und Erfahrung (26A164115) 
LOCATION:APO, Obernstr. 29, 31655 Stadthagen
END:VEVENT
BEGIN:VEVENT
DTSTAMP:20260420T181118
DTSTART;TZID=Europe/Berlin:20260701T190000
DTEND;TZID=Europe/Berlin:20260701T211500
UID:26A164115-20260701T190000@VHSSCHAUMBURG
SUMMARY:Theater und Erfahrung (26A164115) 
LOCATION:APO, Obernstr. 29, 31655 Stadthagen
END:VEVENT
BEGIN:VEVENT
DTSTAMP:20260420T181118
DTSTART;TZID=Europe/Berlin:20260819T190000
DTEND;TZID=Europe/Berlin:20260819T211500
UID:26A164115-20260819T190000@VHSSCHAUMBURG
SUMMARY:Theater und Erfahrung (26A164115) 
LOCATION:APO, Obernstr. 29, 31655 Stadthagen
END:VEVENT
BEGIN:VEVENT
DTSTAMP:20260420T181118
DTSTART;TZID=Europe/Berlin:20260826T190000
DTEND;TZID=Europe/Berlin:20260826T211500
UID:26A164115-20260826T190000@VHSSCHAUMBURG
SUMMARY:Theater und Erfahrung (26A164115) 
LOCATION:APO, Obernstr. 29, 31655 Stadthagen
END:VEVENT
END:VCALENDAR