BEGIN:VCALENDAR
VERSION:2.0
PRODID:https://www.kufer.de/kuferweb / DE
METHOD:PUBLISH
CALSCALE:GREGORIAN
X-WR-TIMEZONE:Europe/Berlin
BEGIN:VTIMEZONE
TZID:Europe/Berlin
X-LIC-LOCATION:Europe/Berlin
BEGIN:DAYLIGHT
TZOFFSETFROM:+0100
TZOFFSETTO:+0200
TZNAME:CEST
DTSTART:19700329T020000
RRULE:FREQ=YEARLY;INTERVAL=1;BYDAY=-1SU;BYMONTH=3
END:DAYLIGHT
BEGIN:STANDARD
TZOFFSETFROM:+0200
TZOFFSETTO:+0100
TZNAME:CET
DTSTART:19701025T030000
RRULE:FREQ=YEARLY;INTERVAL=1;BYDAY=-1SU;BYMONTH=10
END:STANDARD
END:VTIMEZONE
BEGIN:VEVENT
DTSTAMP:20260421T102701
DTSTART;TZID=Europe/Berlin:20260622T084500
DTEND;TZID=Europe/Berlin:20260622T160000
UID:26A548500B-20260622T084500@VHSSCHAUMBURG
SUMMARY:Professionelle Bildbearbeitung mit Adobe Photoshop – Der perfekte Einstieg (26A548500B) 
LOCATION:120-2/1, Klosterstr. 26, 31737 Rinteln
END:VEVENT
BEGIN:VEVENT
DTSTAMP:20260421T102701
DTSTART;TZID=Europe/Berlin:20260623T084500
DTEND;TZID=Europe/Berlin:20260623T160000
UID:26A548500B-20260623T084500@VHSSCHAUMBURG
SUMMARY:Professionelle Bildbearbeitung mit Adobe Photoshop – Der perfekte Einstieg (26A548500B) 
LOCATION:120-2/1, Klosterstr. 26, 31737 Rinteln
END:VEVENT
BEGIN:VEVENT
DTSTAMP:20260421T102701
DTSTART;TZID=Europe/Berlin:20260624T084500
DTEND;TZID=Europe/Berlin:20260624T160000
UID:26A548500B-20260624T084500@VHSSCHAUMBURG
SUMMARY:Professionelle Bildbearbeitung mit Adobe Photoshop – Der perfekte Einstieg (26A548500B) 
LOCATION:120-2/1, Klosterstr. 26, 31737 Rinteln
END:VEVENT
BEGIN:VEVENT
DTSTAMP:20260421T102701
DTSTART;TZID=Europe/Berlin:20260625T084500
DTEND;TZID=Europe/Berlin:20260625T160000
UID:26A548500B-20260625T084500@VHSSCHAUMBURG
SUMMARY:Professionelle Bildbearbeitung mit Adobe Photoshop – Der perfekte Einstieg (26A548500B) 
LOCATION:120-2/1, Klosterstr. 26, 31737 Rinteln
END:VEVENT
BEGIN:VEVENT
DTSTAMP:20260421T102701
DTSTART;TZID=Europe/Berlin:20260626T084500
DTEND;TZID=Europe/Berlin:20260626T160000
UID:26A548500B-20260626T084500@VHSSCHAUMBURG
SUMMARY:Professionelle Bildbearbeitung mit Adobe Photoshop – Der perfekte Einstieg (26A548500B) 
LOCATION:120-2/1, Klosterstr. 26, 31737 Rinteln
END:VEVENT
END:VCALENDAR