BEGIN:VCALENDAR
VERSION:2.0
PRODID:http://www.kufer.de/kuferweb / DE
METHOD:PUBLISH
CALSCALE:GREGORIAN
X-WR-TIMEZONE:Europe/Berlin
BEGIN:VTIMEZONE
TZID:Europe/Berlin
X-LIC-LOCATION:Europe/Berlin
BEGIN:DAYLIGHT
TZOFFSETFROM:+0100
TZOFFSETTO:+0200
TZNAME:CEST
DTSTART;TZID=Europe/Berlin:19700329T020000
RRULE:FREQ=YEARLY;INTERVAL=1;BYDAY=-1SU;BYMONTH=3
END:DAYLIGHT
BEGIN:STANDARD
TZOFFSETFROM:+0200
TZOFFSETTO:+0100
TZNAME:CET
DTSTART;TZID=Europe/Berlin:19701025T030000
RRULE:FREQ=YEARLY;INTERVAL=1;BYDAY=-1SU;BYMONTH=10
END:STANDARD
END:VTIMEZONE
BEGIN:VEVENT
DTSTAMP:20260419T173151
DTSTART;TZID=Europe/Berlin:20260218T140000
DTEND;TZID=Europe/Berlin:20260218T144500
UID:26A7A0111-20260218T140000@VHSSCHAUMBURG
SUMMARY:Lesen, Schreiben und Rechnen von Anfang an In Zusammenarbeit mit der PLSW (26A7A0111) 
LOCATION:PLSW Obernkirchen, , 31683 Obernkirchen
END:VEVENT
BEGIN:VEVENT
DTSTAMP:20260419T173151
DTSTART;TZID=Europe/Berlin:20260225T140000
DTEND;TZID=Europe/Berlin:20260225T144500
UID:26A7A0111-20260225T140000@VHSSCHAUMBURG
SUMMARY:Lesen, Schreiben und Rechnen von Anfang an In Zusammenarbeit mit der PLSW (26A7A0111) 
LOCATION:PLSW Obernkirchen, , 31683 Obernkirchen
END:VEVENT
BEGIN:VEVENT
DTSTAMP:20260419T173151
DTSTART;TZID=Europe/Berlin:20260304T140000
DTEND;TZID=Europe/Berlin:20260304T144500
UID:26A7A0111-20260304T140000@VHSSCHAUMBURG
SUMMARY:Lesen, Schreiben und Rechnen von Anfang an In Zusammenarbeit mit der PLSW (26A7A0111) 
LOCATION:PLSW Obernkirchen, , 31683 Obernkirchen
END:VEVENT
BEGIN:VEVENT
DTSTAMP:20260419T173151
DTSTART;TZID=Europe/Berlin:20260311T140000
DTEND;TZID=Europe/Berlin:20260311T144500
UID:26A7A0111-20260311T140000@VHSSCHAUMBURG
SUMMARY:Lesen, Schreiben und Rechnen von Anfang an In Zusammenarbeit mit der PLSW (26A7A0111) 
LOCATION:PLSW Obernkirchen, , 31683 Obernkirchen
END:VEVENT
BEGIN:VEVENT
DTSTAMP:20260419T173151
DTSTART;TZID=Europe/Berlin:20260318T140000
DTEND;TZID=Europe/Berlin:20260318T144500
UID:26A7A0111-20260318T140000@VHSSCHAUMBURG
SUMMARY:Lesen, Schreiben und Rechnen von Anfang an In Zusammenarbeit mit der PLSW (26A7A0111) 
LOCATION:PLSW Obernkirchen, , 31683 Obernkirchen
END:VEVENT
BEGIN:VEVENT
DTSTAMP:20260419T173151
DTSTART;TZID=Europe/Berlin:20260408T140000
DTEND;TZID=Europe/Berlin:20260408T144500
UID:26A7A0111-20260408T140000@VHSSCHAUMBURG
SUMMARY:Lesen, Schreiben und Rechnen von Anfang an In Zusammenarbeit mit der PLSW (26A7A0111) 
LOCATION:PLSW Obernkirchen, , 31683 Obernkirchen
END:VEVENT
BEGIN:VEVENT
DTSTAMP:20260419T173151
DTSTART;TZID=Europe/Berlin:20260415T140000
DTEND;TZID=Europe/Berlin:20260415T144500
UID:26A7A0111-20260415T140000@VHSSCHAUMBURG
SUMMARY:Lesen, Schreiben und Rechnen von Anfang an In Zusammenarbeit mit der PLSW (26A7A0111) 
LOCATION:PLSW Obernkirchen, , 31683 Obernkirchen
END:VEVENT
BEGIN:VEVENT
DTSTAMP:20260419T173151
DTSTART;TZID=Europe/Berlin:20260422T140000
DTEND;TZID=Europe/Berlin:20260422T144500
UID:26A7A0111-20260422T140000@VHSSCHAUMBURG
SUMMARY:Lesen, Schreiben und Rechnen von Anfang an In Zusammenarbeit mit der PLSW (26A7A0111) 
LOCATION:PLSW Obernkirchen, , 31683 Obernkirchen
END:VEVENT
BEGIN:VEVENT
DTSTAMP:20260419T173151
DTSTART;TZID=Europe/Berlin:20260429T140000
DTEND;TZID=Europe/Berlin:20260429T144500
UID:26A7A0111-20260429T140000@VHSSCHAUMBURG
SUMMARY:Lesen, Schreiben und Rechnen von Anfang an In Zusammenarbeit mit der PLSW (26A7A0111) 
LOCATION:PLSW Obernkirchen, , 31683 Obernkirchen
END:VEVENT
BEGIN:VEVENT
DTSTAMP:20260419T173151
DTSTART;TZID=Europe/Berlin:20260506T140000
DTEND;TZID=Europe/Berlin:20260506T144500
UID:26A7A0111-20260506T140000@VHSSCHAUMBURG
SUMMARY:Lesen, Schreiben und Rechnen von Anfang an In Zusammenarbeit mit der PLSW (26A7A0111) 
LOCATION:PLSW Obernkirchen, , 31683 Obernkirchen
END:VEVENT
BEGIN:VEVENT
DTSTAMP:20260419T173151
DTSTART;TZID=Europe/Berlin:20260513T140000
DTEND;TZID=Europe/Berlin:20260513T144500
UID:26A7A0111-20260513T140000@VHSSCHAUMBURG
SUMMARY:Lesen, Schreiben und Rechnen von Anfang an In Zusammenarbeit mit der PLSW (26A7A0111) 
LOCATION:PLSW Obernkirchen, , 31683 Obernkirchen
END:VEVENT
BEGIN:VEVENT
DTSTAMP:20260419T173151
DTSTART;TZID=Europe/Berlin:20260520T140000
DTEND;TZID=Europe/Berlin:20260520T144500
UID:26A7A0111-20260520T140000@VHSSCHAUMBURG
SUMMARY:Lesen, Schreiben und Rechnen von Anfang an In Zusammenarbeit mit der PLSW (26A7A0111) 
LOCATION:PLSW Obernkirchen, , 31683 Obernkirchen
END:VEVENT
BEGIN:VEVENT
DTSTAMP:20260419T173151
DTSTART;TZID=Europe/Berlin:20260527T140000
DTEND;TZID=Europe/Berlin:20260527T144500
UID:26A7A0111-20260527T140000@VHSSCHAUMBURG
SUMMARY:Lesen, Schreiben und Rechnen von Anfang an In Zusammenarbeit mit der PLSW (26A7A0111) 
LOCATION:PLSW Obernkirchen, , 31683 Obernkirchen
END:VEVENT
BEGIN:VEVENT
DTSTAMP:20260419T173151
DTSTART;TZID=Europe/Berlin:20260603T140000
DTEND;TZID=Europe/Berlin:20260603T144500
UID:26A7A0111-20260603T140000@VHSSCHAUMBURG
SUMMARY:Lesen, Schreiben und Rechnen von Anfang an In Zusammenarbeit mit der PLSW (26A7A0111) 
LOCATION:PLSW Obernkirchen, , 31683 Obernkirchen
END:VEVENT
BEGIN:VEVENT
DTSTAMP:20260419T173151
DTSTART;TZID=Europe/Berlin:20260610T140000
DTEND;TZID=Europe/Berlin:20260610T144500
UID:26A7A0111-20260610T140000@VHSSCHAUMBURG
SUMMARY:Lesen, Schreiben und Rechnen von Anfang an In Zusammenarbeit mit der PLSW (26A7A0111) 
LOCATION:PLSW Obernkirchen, , 31683 Obernkirchen
END:VEVENT
BEGIN:VEVENT
DTSTAMP:20260419T173151
DTSTART;TZID=Europe/Berlin:20260617T140000
DTEND;TZID=Europe/Berlin:20260617T144500
UID:26A7A0111-20260617T140000@VHSSCHAUMBURG
SUMMARY:Lesen, Schreiben und Rechnen von Anfang an In Zusammenarbeit mit der PLSW (26A7A0111) 
LOCATION:PLSW Obernkirchen, , 31683 Obernkirchen
END:VEVENT
END:VCALENDAR