BEGIN:VCALENDAR
VERSION:2.0
PRODID:http://www.kufer.de/kuferweb / DE
METHOD:PUBLISH
CALSCALE:GREGORIAN
X-WR-TIMEZONE:Europe/Berlin
BEGIN:VTIMEZONE
TZID:Europe/Berlin
X-LIC-LOCATION:Europe/Berlin
BEGIN:DAYLIGHT
TZOFFSETFROM:+0100
TZOFFSETTO:+0200
TZNAME:CEST
DTSTART;TZID=Europe/Berlin:19700329T020000
RRULE:FREQ=YEARLY;INTERVAL=1;BYDAY=-1SU;BYMONTH=3
END:DAYLIGHT
BEGIN:STANDARD
TZOFFSETFROM:+0200
TZOFFSETTO:+0100
TZNAME:CET
DTSTART;TZID=Europe/Berlin:19701025T030000
RRULE:FREQ=YEARLY;INTERVAL=1;BYDAY=-1SU;BYMONTH=10
END:STANDARD
END:VTIMEZONE
BEGIN:VEVENT
DTSTAMP:20260419T173151
DTSTART;TZID=Europe/Berlin:20260206T090000
DTEND;TZID=Europe/Berlin:20260206T103000
UID:26A7A4912-20260206T090000@VHSSCHAUMBURG
SUMMARY:Up (to) date sein - mitsprechen können! (26A7A4912) 
LOCATION:PLSW Rinteln, Dieselstraße 3, 31737 Rinteln
END:VEVENT
BEGIN:VEVENT
DTSTAMP:20260419T173151
DTSTART;TZID=Europe/Berlin:20260220T090000
DTEND;TZID=Europe/Berlin:20260220T103000
UID:26A7A4912-20260220T090000@VHSSCHAUMBURG
SUMMARY:Up (to) date sein - mitsprechen können! (26A7A4912) 
LOCATION:PLSW Rinteln, Dieselstraße 3, 31737 Rinteln
END:VEVENT
BEGIN:VEVENT
DTSTAMP:20260419T173151
DTSTART;TZID=Europe/Berlin:20260306T090000
DTEND;TZID=Europe/Berlin:20260306T103000
UID:26A7A4912-20260306T090000@VHSSCHAUMBURG
SUMMARY:Up (to) date sein - mitsprechen können! (26A7A4912) 
LOCATION:PLSW Rinteln, Dieselstraße 3, 31737 Rinteln
END:VEVENT
BEGIN:VEVENT
DTSTAMP:20260419T173151
DTSTART;TZID=Europe/Berlin:20260320T090000
DTEND;TZID=Europe/Berlin:20260320T103000
UID:26A7A4912-20260320T090000@VHSSCHAUMBURG
SUMMARY:Up (to) date sein - mitsprechen können! (26A7A4912) 
LOCATION:PLSW Rinteln, Dieselstraße 3, 31737 Rinteln
END:VEVENT
BEGIN:VEVENT
DTSTAMP:20260419T173151
DTSTART;TZID=Europe/Berlin:20260410T090000
DTEND;TZID=Europe/Berlin:20260410T103000
UID:26A7A4912-20260410T090000@VHSSCHAUMBURG
SUMMARY:Up (to) date sein - mitsprechen können! (26A7A4912) 
LOCATION:PLSW Rinteln, Dieselstraße 3, 31737 Rinteln
END:VEVENT
BEGIN:VEVENT
DTSTAMP:20260419T173151
DTSTART;TZID=Europe/Berlin:20260424T090000
DTEND;TZID=Europe/Berlin:20260424T103000
UID:26A7A4912-20260424T090000@VHSSCHAUMBURG
SUMMARY:Up (to) date sein - mitsprechen können! (26A7A4912) 
LOCATION:PLSW Rinteln, Dieselstraße 3, 31737 Rinteln
END:VEVENT
END:VCALENDAR