BEGIN:VCALENDAR
VERSION:2.0
PRODID:https://www.kufer.de/kuferweb / DE
METHOD:PUBLISH
CALSCALE:GREGORIAN
X-WR-TIMEZONE:Europe/Berlin
BEGIN:VTIMEZONE
TZID:Europe/Berlin
X-LIC-LOCATION:Europe/Berlin
BEGIN:DAYLIGHT
TZOFFSETFROM:+0100
TZOFFSETTO:+0200
TZNAME:CEST
DTSTART:19700329T020000
RRULE:FREQ=YEARLY;INTERVAL=1;BYDAY=-1SU;BYMONTH=3
END:DAYLIGHT
BEGIN:STANDARD
TZOFFSETFROM:+0200
TZOFFSETTO:+0100
TZNAME:CET
DTSTART:19701025T030000
RRULE:FREQ=YEARLY;INTERVAL=1;BYDAY=-1SU;BYMONTH=10
END:STANDARD
END:VTIMEZONE
BEGIN:VEVENT
DTSTAMP:20260420T195647
DTSTART;TZID=Europe/Berlin:20260409T180000
DTEND;TZID=Europe/Berlin:20260409T190000
UID:26A854112-20260409T180000@VHSSCHAUMBURG
SUMMARY:Es muss nicht unbedingt Gitarre sein Liedbegleitung auf leicht zu erlernenden Instrumenten (26A854112) 
LOCATION:120-3/2, Klosterstr. 26, 31737 Rinteln
END:VEVENT
BEGIN:VEVENT
DTSTAMP:20260420T195647
DTSTART;TZID=Europe/Berlin:20260416T180000
DTEND;TZID=Europe/Berlin:20260416T190000
UID:26A854112-20260416T180000@VHSSCHAUMBURG
SUMMARY:Es muss nicht unbedingt Gitarre sein Liedbegleitung auf leicht zu erlernenden Instrumenten (26A854112) 
LOCATION:120-3/2, Klosterstr. 26, 31737 Rinteln
END:VEVENT
BEGIN:VEVENT
DTSTAMP:20260420T195647
DTSTART;TZID=Europe/Berlin:20260423T180000
DTEND;TZID=Europe/Berlin:20260423T190000
UID:26A854112-20260423T180000@VHSSCHAUMBURG
SUMMARY:Es muss nicht unbedingt Gitarre sein Liedbegleitung auf leicht zu erlernenden Instrumenten (26A854112) 
LOCATION:120-3/2, Klosterstr. 26, 31737 Rinteln
END:VEVENT
BEGIN:VEVENT
DTSTAMP:20260420T195647
DTSTART;TZID=Europe/Berlin:20260430T180000
DTEND;TZID=Europe/Berlin:20260430T190000
UID:26A854112-20260430T180000@VHSSCHAUMBURG
SUMMARY:Es muss nicht unbedingt Gitarre sein Liedbegleitung auf leicht zu erlernenden Instrumenten (26A854112) 
LOCATION:120-3/2, Klosterstr. 26, 31737 Rinteln
END:VEVENT
END:VCALENDAR